BEGIN:VCALENDAR
VERSION:2.0
PRODID:-//Tukios.com/
BEGIN:VEVENT
UID:ae5538f5-133f-45c4-b4dc-7dba215211bd@www.sorensonlockwood.com
DTSTAMP:20260421T231340Z
DTSTART:20260503T040000Z
DTEND:20260503T210000Z
SUMMARY:Luncheon
DESCRIPTION:
URL:https://www.sorensonlockwood.com/obituaries/robert-mcclain
LOCATION: 602 Huron Street  Grayling MI 49738
GEO:44.655813;-84.7018783
END:VEVENT
END:VCALENDAR