BEGIN:VCALENDAR
VERSION:2.0
PRODID:-//Tukios.com/
BEGIN:VEVENT
UID:c7acf92e-9d49-4fc3-9767-022299920e53@www.sorensonlockwood.com
DTSTAMP:20260421T231741Z
DTSTART:20260503T150000Z
DTEND:20260503T160000Z
SUMMARY:Visitation
DESCRIPTION:
URL:https://www.sorensonlockwood.com/obituaries/robert-mcclain
LOCATION:Sorenson-Lockwood Funeral Home 1108 West North Down River Road  
	Grayling MI 49738
GEO:44.6704435;-84.7111875
END:VEVENT
END:VCALENDAR