BEGIN:VCALENDAR
VERSION:2.0
PRODID:-//Tukios.com/
BEGIN:VEVENT
UID:8c2bd011-aa20-4030-84be-029964ad3ada@www.sorensonlockwood.com
DTSTAMP:20260421T231123Z
DTSTART:20260503T160000Z
DTEND:20260503T170000Z
SUMMARY:Funeral Service
DESCRIPTION:
URL:https://www.sorensonlockwood.com/obituaries/robert-mcclain
LOCATION:Sorenson-Lockwood Funeral Home 1108 West North Down River Road  
	Grayling MI 49738
GEO:44.6704435;-84.7111875
END:VEVENT
END:VCALENDAR